BEGIN:VCALENDAR
VERSION:2.0
PRODID:-//wp-events-plugin.com//7.2.3.1//EN
TZID:America/Chicago
X-WR-TIMEZONE:America/Chicago
BEGIN:VEVENT
UID:580@oakfieldlibrary.org
DTSTART;TZID=America/Chicago;VALUE=DATE:20250526
DTEND;TZID=America/Chicago;VALUE=DATE:20250527
DTSTAMP:20250422T220047Z
URL:https://oakfieldlibrary.org/events/closed-4/
SUMMARY:Closed
DESCRIPTION:\nThe library will be closed on Monday\, May 26 as we honor and
  remember those who gave everything.We’ll reopen on Tuesday\, ready to h
 elp you turn pages and learn more.\n\n\n\nDon’t worry—you can still ex
 plore 24/7 online resources anytime!From eBooks and audiobooks to research
  databases and more\, knowledge is always at your fingertips.\n\n\n\n\n\n\
 n\n\n\n\n\n\n
ATTACH;FMTTYPE=image/jpeg:https://oakfieldlibrary.org/wp-content/uploads/2
 024/05/20-Decoration-Day-1200x834-1-e1716413780700.jpg
CATEGORIES:General
END:VEVENT
BEGIN:VTIMEZONE
TZID:America/Chicago
X-LIC-LOCATION:America/Chicago
BEGIN:DAYLIGHT
DTSTART:20250309T030000
TZOFFSETFROM:-0600
TZOFFSETTO:-0500
TZNAME:CDT
END:DAYLIGHT
END:VTIMEZONE
END:VCALENDAR