BEGIN:VCALENDAR
VERSION:2.0
PRODID:-//wp-events-plugin.com//7.2.3.1//EN
TZID:America/Chicago
X-WR-TIMEZONE:America/Chicago
BEGIN:VEVENT
UID:583@oakfieldlibrary.org
DTSTART;TZID=America/Chicago;VALUE=DATE:20250511
DTEND;TZID=America/Chicago;VALUE=DATE:20250512
DTSTAMP:20250423T004807Z
URL:https://oakfieldlibrary.org/events/celebrating-moms/
SUMMARY:Celebrating Moms
DESCRIPTION:\nThis Mother’s Day let’s honor all the amazing moms who sh
 are the joy of reading with their families. Drop by the library and discov
 er stories that bring mothers and children closer together. Your next fami
 ly favorite is waiting for you!\n
ATTACH;FMTTYPE=image/jpeg:https://oakfieldlibrary.org/wp-content/uploads/2
 025/04/OIP-3-e1745369261821.jpg
CATEGORIES:Adults,General
END:VEVENT
BEGIN:VTIMEZONE
TZID:America/Chicago
X-LIC-LOCATION:America/Chicago
BEGIN:DAYLIGHT
DTSTART:20250309T030000
TZOFFSETFROM:-0600
TZOFFSETTO:-0500
TZNAME:CDT
END:DAYLIGHT
END:VTIMEZONE
END:VCALENDAR