BEGIN:VCALENDAR
VERSION:2.0
PRODID:-//wp-events-plugin.com//7.2.3.1//EN
TZID:America/Chicago
X-WR-TIMEZONE:America/Chicago
BEGIN:VEVENT
UID:243@oakfieldlibrary.org
DTSTART;TZID=America/Chicago:20240814T131500
DTEND;TZID=America/Chicago:20240814T144500
DTSTAMP:20240703T130756Z
URL:https://oakfieldlibrary.org/events/bored-games-2024-08-14/
SUMMARY:Bored? Games
DESCRIPTION:\nAll ages are invited to join us in the community room to play
  a variety of card and board games. Coffee\, juice and light snacks provid
 ed. Feel free to bring additional snacks to share.\n
ATTACH;FMTTYPE=image/jpeg:https://oakfieldlibrary.org/wp-content/uploads/2
 024/06/board-games-e1762460685332.jpeg
CATEGORIES:General
END:VEVENT
BEGIN:VTIMEZONE
TZID:America/Chicago
X-LIC-LOCATION:America/Chicago
BEGIN:DAYLIGHT
DTSTART:20240310T030000
TZOFFSETFROM:-0600
TZOFFSETTO:-0500
TZNAME:CDT
END:DAYLIGHT
END:VTIMEZONE
END:VCALENDAR